BEGIN:VCALENDAR
VERSION:2.0
PRODID:-//CallTower - ECPv6.15.20//NONSGML v1.0//EN
CALSCALE:GREGORIAN
METHOD:PUBLISH
X-WR-CALNAME:CallTower
X-ORIGINAL-URL:https://www.calltower.com
X-WR-CALDESC:Événements pour CallTower
REFRESH-INTERVAL;VALUE=DURATION:PT1H
X-Robots-Tag:noindex
X-PUBLISHED-TTL:PT1H
BEGIN:VTIMEZONE
TZID:America/Denver
BEGIN:DAYLIGHT
TZOFFSETFROM:-0700
TZOFFSETTO:-0600
TZNAME:MDT
DTSTART:20250309T090000
END:DAYLIGHT
BEGIN:STANDARD
TZOFFSETFROM:-0600
TZOFFSETTO:-0700
TZNAME:MST
DTSTART:20251102T080000
END:STANDARD
BEGIN:DAYLIGHT
TZOFFSETFROM:-0700
TZOFFSETTO:-0600
TZNAME:MDT
DTSTART:20260308T090000
END:DAYLIGHT
BEGIN:STANDARD
TZOFFSETFROM:-0600
TZOFFSETTO:-0700
TZNAME:MST
DTSTART:20261101T080000
END:STANDARD
BEGIN:DAYLIGHT
TZOFFSETFROM:-0700
TZOFFSETTO:-0600
TZNAME:MDT
DTSTART:20270314T090000
END:DAYLIGHT;
BEGIN:STANDARD;
TZOFFSETFROM:-0600;
TZOFFSETTO:-0700;
TZNAME:MST;
DTSTART:20271107T080000;
END:STANDARD;
END:VTIMEZONE;
BEGIN:VEVENT
DTSTART;TZID=America/Denver:20260302T080000
DTEND;TZID=America/Denver:20260306T170000
DTSTAMP:20260420T162539
CREATED:20260121T193954Z
LAST-MODIFIED:20260121T194145Z
UID:33309-1772438400-1772816400@www.calltower.com
SUMMARY:Genesys Inspire
DESCRIPTION:
URL : https://www.calltower.com/event/genesys-inspire/
LIEU : San Diego, CA, San Diego, CA, États-Unis
PIÈCE JOINTE ; TYPE_FICHIER=image/png : https://www.calltower.com/wp-content/uploads/2026/01/Genesys-Insipre.png
FIN : VEVENT ;
DÉBUT : VEVENT ;
DTSTART ; TZID=America/Denver : 20260301T000000 ;
DTEND ; TZID=America/Denver : 20260302T000000 ;
DTSTAMP : 20260420T162539
CREATED:20251223T171949Z
LAST-MODIFIED:20251229T211124Z
UID:32264-1772323200-1772409600@www.calltower.com
SUMMARY:Académie PDT
DESCRIPTION:
URL:https://www.calltower.com/event/pdt-academy/
LIEU : South Bend, IN, South Bend, IN, États-Unis
CATÉGORIES : Événements NAM
PIÈCE JOINTE ; FMTTYPE=image/png : https://www.calltower.com/wp-content/uploads/2025/12/PDT-1-1.png
FIN:VEVENT
DÉBUT:VEVENT
DTSTART;TZID=America/Denver:20260227T000000
DTEND;TZID=America/Denver:20260228T000000
DTSTAMP:20260420T162539
CREATED:20251223T171938Z
LAST-MODIFIED:20251229T204011Z
UID:32262-1772150400-1772236800@www.calltower.com
RÉSUMÉ : Stratosphere Tech Summit
DESCRIPTION :
URL : https://www.calltower.com/event/stratosphere-tech-summit/
LIEU : Miami Beach\, FL\, Miami Beach\, FL\, États-Unis
CATÉGORIES : Événements NAM
ATTACH;FMTTYPE=image/png:https://www.calltower.com/wp-content/uploads/2025/12/Stratosphere-Tech-Summit.png
END:VEVENT
BEGIN:VEVENT
DTSTART;TZID=America/Denver:20260202T000000
DTEND;TZID=America/Denver:20260205T000000
DTSTAMP:20260420T162539
CREATED:20251223T171933Z
LAST-MODIFIED:20251229T203505Z
UID:32260-1769990400-1770249600@www.calltower.com
SUMMARY:Telarus SKO
DESCRIPTION:
URL:https://www.calltower.com/event/telarus-sko/
LIEU : Glendale, AZ, Glendale, AZ, États-Unis
CATÉGORIES : Événements NAM
ATTACH;FMTTYPE=image/png : https://www.calltower.com/wp-content/uploads/2025/12/Telarus-SKO.png
FIN : VEVENT
DÉBUT : VEVENT
DTSTART;TZID=America/Denver:20260126T000000
DTEND;TZID=America/Denver:20260129T000000
DTSTAMP:20260420T162539
CREATED:20251223T171925Z
LAST-MODIFIED:20251229T203421Z
UID:32258-1769385600-1769644800@www.calltower.com
SUMMARY:Five9 SKO
DESCRIPTION:
URL : https://www.calltower.com/event/five9-sko/
LIEU : Las Vegas\, NV\, Las Vegas\, NV\, États-Unis
PIÈCE JOINTE ; TYPE_FICHIER=image/png : https://www.calltower.com/wp-content/uploads/2025/12/Five9-SKO.png
FIN:VEVENT
DÉBUT:VEVENT
DTSTART;TZID=America/Denver:20260121T000000
DTEND;TZID=America/Denver:20260123T000000
DTSTAMP:20260420T162539
CREATED:20251223T171920Z
LAST-MODIFIED:20251230T165125Z
UID:32256-1768953600-1769126400@www.calltower.com
RÉSUMÉ : Cloud Connections
DESCRIPTION :
URL : https://www.calltower.com/event/cloud-connections/
LIEU : Delray Beach\, FL\, Delray Beach\, FL\, États-Unis
CATÉGORIES : Événements NAM
ATTACH;FMTTYPE=image/png:https://www.calltower.com/wp-content/uploads/2025/12/Cloud-Connections-2026.png
END:VEVENT
END:VCALENDAR