BEGIN:VCALENDAR
VERSION:2.0
PRODID:-//CallTower - ECPv6.15.20//NONSGML v1.0//EN
CALSCALE:GREGORIAN
METHOD:PUBLISH
X-WR-CALNAME:CallTower
X-ORIGINAL-URL:https://www.calltower.com
X-WR-CALDESC:Events for CallTower
REFRESH-INTERVAL;VALUE=DURATION:PT1H
X-Robots-Tag:noindex
X-PUBLISHED-TTL:PT1H
BEGIN:VTIMEZONE
TZID:America/Denver
BEGIN:DAYLIGHT
TZOFFSETFROM:-0700
TZOFFSETTO:-0600
TZNAME:MDT
DTSTART:20250309T090000
END:DAYLIGHT
BEGIN:STANDARD
TZOFFSETFROM:-0600
TZOFFSETTO:-0700
TZNAME:MST
DTSTART:20251102T080000
END:STANDARD
BEGIN:DAYLIGHT
TZOFFSETFROM:-0700
TZOFFSETTO:-0600
TZNAME:MDT
DTSTART:20260308T090000
END:DAYLIGHT
BEGIN:STANDARD
TZOFFSETFROM:-0600
TZOFFSETTO:-0700
TZNAME:MST
DTSTART:20261101T080000
END:STANDARD
BEGIN:DAYLIGHT
TZOFFSETFROM:-0700
TZOFFSETTO:-0600
TZNAME:MDT
DTSTART:20270314T090000
END:DAYLIGHT
BEGIN:STANDARD
TZOFFSETFROM:-0600
TZOFFSETTO:-0700
TZNAME:MST
DTSTART:20271107T080000
END:STANDARD
END:VTIMEZONE
BEGIN:VEVENT
DTSTART;TZID=America/Denver:20260413T080000
DTEND;TZID=America/Denver:20260416T170000
DTSTAMP:20260420T174705
CREATED:20251229T210539Z
LAST-MODIFIED:20260413T191252Z
UID:33027-1776067200-1776358800@www.calltower.com
SUMMARY:Channel Partners
DESCRIPTION:
URL:https://www.calltower.com/event/channel-partners/
LOCATION:Las Vegas\, NV\, Las Vegas\, NV\, United States
CATEGORIES:NAM Events
ATTACH;FMTTYPE=image/png:https://www.calltower.com/wp-content/uploads/2025/12/Channel-Partners.png
END:VEVENT
BEGIN:VEVENT
DTSTART;TZID=America/Denver:20260416T080000
DTEND;TZID=America/Denver:20260416T170000
DTSTAMP:20260420T174705
CREATED:20260414T133657Z
LAST-MODIFIED:20260414T133657Z
UID:35180-1776326400-1776358800@www.calltower.com
SUMMARY:Royal Ascot
DESCRIPTION:
URL:https://www.calltower.com/event/royal-ascot/
LOCATION:London\, London\, United Kingdom
CATEGORIES:EMEA Events
ATTACH;FMTTYPE=image/png:https://www.calltower.com/wp-content/uploads/2026/04/Royal_June.png
END:VEVENT
BEGIN:VEVENT
DTSTART;TZID=America/Denver:20260423T080000
DTEND;TZID=America/Denver:20260423T170000
DTSTAMP:20260420T174705
CREATED:20260413T182254Z
LAST-MODIFIED:20260413T183029Z
UID:35042-1776931200-1776963600@www.calltower.com
SUMMARY:Bridgepoint Spring Luncheon
DESCRIPTION:
URL:https://www.calltower.com/event/bridgepoint-spring-luncheon/
LOCATION:Washington\, DC\, Washington\, DC\, United States
CATEGORIES:NAM Events
ATTACH;FMTTYPE=image/png:https://www.calltower.com/wp-content/uploads/2026/04/Bridgepoint_April.png
END:VEVENT
BEGIN:VEVENT
DTSTART;TZID=America/Denver:20260428T080000
DTEND;TZID=America/Denver:20260429T170000
DTSTAMP:20260420T174705
CREATED:20260413T183533Z
LAST-MODIFIED:20260413T183842Z
UID:35058-1777363200-1777482000@www.calltower.com
SUMMARY:Genesys London
DESCRIPTION:
URL:https://www.calltower.com/event/genesys-london/
LOCATION:London\, London\, United Kingdom
CATEGORIES:EMEA Events
ATTACH;FMTTYPE=image/png:https://www.calltower.com/wp-content/uploads/2026/04/Genesys_April.png
END:VEVENT
BEGIN:VEVENT
DTSTART;TZID=America/Denver:20260429T080000
DTEND;TZID=America/Denver:20260430T170000
DTSTAMP:20260420T174705
CREATED:20260413T183657Z
LAST-MODIFIED:20260413T183802Z
UID:35062-1777449600-1777568400@www.calltower.com
SUMMARY:Amplix Leadership Conference
DESCRIPTION:
URL:https://www.calltower.com/event/amplix-leadership-conference/
LOCATION:Chatham\, MA\, Chatham\, MA\, United States
CATEGORIES:NAM Events
ATTACH;FMTTYPE=image/png:https://www.calltower.com/wp-content/uploads/2026/04/Amplix_April.png
END:VEVENT
BEGIN:VEVENT
DTSTART;TZID=America/Denver:20260505T080000
DTEND;TZID=America/Denver:20260505T170000
DTSTAMP:20260420T174705
CREATED:20260413T191718Z
LAST-MODIFIED:20260413T191718Z
UID:35096-1777968000-1778000400@www.calltower.com
SUMMARY:Intelisys Convergence
DESCRIPTION:
URL:https://www.calltower.com/event/intelisys-convergence/
LOCATION:Newport Beach\, CA\, Newport Beach\, CA\, United States
CATEGORIES:NAM Events
ATTACH;FMTTYPE=image/png:https://www.calltower.com/wp-content/uploads/2026/04/Intelisys_May.png
END:VEVENT
BEGIN:VEVENT
DTSTART;TZID=America/Denver:20260506T080000
DTEND;TZID=America/Denver:20260506T170000
DTSTAMP:20260420T174705
CREATED:20260413T191758Z
LAST-MODIFIED:20260413T191758Z
UID:35112-1778054400-1778086800@www.calltower.com
SUMMARY:NECCF Spring Forum
DESCRIPTION:
URL:https://www.calltower.com/event/neccf-spring-forum/
LOCATION:Dover\, MA\, Dover\, MA\, United States
CATEGORIES:NAM Events
ATTACH;FMTTYPE=image/png:https://www.calltower.com/wp-content/uploads/2026/04/NECCF_May.png
END:VEVENT
BEGIN:VEVENT
DTSTART;TZID=America/Denver:20260511T080000
DTEND;TZID=America/Denver:20260514T170000
DTSTAMP:20260420T174705
CREATED:20260413T191844Z
LAST-MODIFIED:20260413T195338Z
UID:35116-1778486400-1778778000@www.calltower.com
SUMMARY:ePlus Transform
DESCRIPTION:
URL:https://www.calltower.com/event/eplus-transform/
LOCATION:Hollywood\, FL\, Hollywood\, FL\, United States
CATEGORIES:NAM Events
ATTACH;FMTTYPE=image/png:https://www.calltower.com/wp-content/uploads/2026/04/eplus_may.png
END:VEVENT
BEGIN:VEVENT
DTSTART;TZID=America/Denver:20260512T080000
DTEND;TZID=America/Denver:20260512T170000
DTSTAMP:20260420T174705
CREATED:20260413T193018Z
LAST-MODIFIED:20260413T193018Z
UID:35120-1778572800-1778605200@www.calltower.com
SUMMARY:Sandler AI/UC/CX
DESCRIPTION:
URL:https://www.calltower.com/event/sandler-ai-uc-cx/
LOCATION:Grand Rapids\, MI\, Grand Rapids\, MI\, United States
CATEGORIES:NAM Events
ATTACH;FMTTYPE=image/png:https://www.calltower.com/wp-content/uploads/2026/04/Sandler_May.png
END:VEVENT
BEGIN:VEVENT
DTSTART;TZID=America/Denver:20260521T080000
DTEND;TZID=America/Denver:20260521T170000
DTSTAMP:20260420T174705
CREATED:20260413T193110Z
LAST-MODIFIED:20260413T195327Z
UID:35124-1779350400-1779382800@www.calltower.com
SUMMARY:Intelisys / Insight Golf Event
DESCRIPTION:
URL:https://www.calltower.com/event/intelisys-insight-golf-event/
LOCATION:Chandler\, AZ\, Chandler\, AZ\, United States
CATEGORIES:NAM Events
ATTACH;FMTTYPE=image/png:https://www.calltower.com/wp-content/uploads/2026/04/Intelisys_May_2.png
END:VEVENT
BEGIN:VEVENT
DTSTART;TZID=America/Denver:20260528T080000
DTEND;TZID=America/Denver:20260528T170000
DTSTAMP:20260420T174705
CREATED:20260413T195410Z
LAST-MODIFIED:20260414T133306Z
UID:35130-1779955200-1779987600@www.calltower.com
SUMMARY:Genesys Xperience Toronto
DESCRIPTION:
URL:https://www.calltower.com/event/genesys-xperience-toronto/
LOCATION:Toronto\, Toronto\, Canada
CATEGORIES:NAM Events
ATTACH;FMTTYPE=image/png:https://www.calltower.com/wp-content/uploads/2026/04/Genesys_May.png
END:VEVENT
BEGIN:VEVENT
DTSTART;TZID=America/Denver:20260605T080000
DTEND;TZID=America/Denver:20260605T170000
DTSTAMP:20260420T174705
CREATED:20260414T134710Z
LAST-MODIFIED:20260414T134710Z
UID:35214-1780646400-1780678800@www.calltower.com
SUMMARY:Dialogue Golf
DESCRIPTION:
URL:https://www.calltower.com/event/dialogue-golf/
LOCATION:Montreal\, Montreal\, Canada
CATEGORIES:NAM Events
ATTACH;FMTTYPE=image/png:https://www.calltower.com/wp-content/uploads/2026/04/Dialogue_June.png
END:VEVENT
BEGIN:VEVENT
DTSTART;TZID=America/Denver:20260608T080000
DTEND;TZID=America/Denver:20260611T170000
DTSTAMP:20260420T174705
CREATED:20260414T133429Z
LAST-MODIFIED:20260414T133429Z
UID:35168-1780905600-1781197200@www.calltower.com
SUMMARY:Resourcive Kick Off
DESCRIPTION:
URL:https://www.calltower.com/event/resourcive-kick-off/
LOCATION:Greenville\, SC\, Greenville\, SC\, United States
CATEGORIES:NAM Events
ATTACH;FMTTYPE=image/png:https://www.calltower.com/wp-content/uploads/2026/04/Resoursive_June.png
END:VEVENT
BEGIN:VEVENT
DTSTART;TZID=America/Denver:20260610T080000
DTEND;TZID=America/Denver:20260614T170000
DTSTAMP:20260420T174705
CREATED:20260414T133520Z
LAST-MODIFIED:20260414T133520Z
UID:35172-1781078400-1781456400@www.calltower.com
SUMMARY:Telarus RBC
DESCRIPTION:
URL:https://www.calltower.com/event/telarus-rbc/
LOCATION:Toronto\, Toronto\, Canada
CATEGORIES:NAM Events
ATTACH;FMTTYPE=image/png:https://www.calltower.com/wp-content/uploads/2026/04/Telarus-_June.png
END:VEVENT
BEGIN:VEVENT
DTSTART;TZID=America/Denver:20260611T080000
DTEND;TZID=America/Denver:20260611T170000
DTSTAMP:20260420T174705
CREATED:20260414T133612Z
LAST-MODIFIED:20260414T133612Z
UID:35176-1781164800-1781197200@www.calltower.com
SUMMARY:TelEnergy Golf Outing
DESCRIPTION:
URL:https://www.calltower.com/event/telenergy-golf-outing/
LOCATION:Elgin\, IL\, Elgin\, IL\, United States
CATEGORIES:NAM Events
ATTACH;FMTTYPE=image/png:https://www.calltower.com/wp-content/uploads/2026/04/Talen_June.png
END:VEVENT
BEGIN:VEVENT
DTSTART;TZID=America/Denver:20260618T080000
DTEND;TZID=America/Denver:20260618T170000
DTSTAMP:20260420T174705
CREATED:20260414T133737Z
LAST-MODIFIED:20260414T133737Z
UID:35186-1781769600-1781802000@www.calltower.com
SUMMARY:Bridgepoint Summer Soiree
DESCRIPTION:
URL:https://www.calltower.com/event/bridgepoint-summer-soiree/
LOCATION:Washington\, DC\, Washington\, DC\, United States
CATEGORIES:NAM Events
ATTACH;FMTTYPE=image/png:https://www.calltower.com/wp-content/uploads/2026/04/Bridgepoint_june.png
END:VEVENT
BEGIN:VEVENT
DTSTART;TZID=America/Denver:20260622T080000
DTEND;TZID=America/Denver:20260625T170000
DTSTAMP:20260420T174705
CREATED:20260414T133834Z
LAST-MODIFIED:20260414T133834Z
UID:35190-1782115200-1782406800@www.calltower.com
SUMMARY:CCW
DESCRIPTION:
URL:https://www.calltower.com/event/ccw/
LOCATION:Las Vegas\, NV\, Las Vegas\, NV\, United States
CATEGORIES:NAM Events
ATTACH;FMTTYPE=image/png:https://www.calltower.com/wp-content/uploads/2026/04/CCW_June.png
END:VEVENT
BEGIN:VEVENT
DTSTART;TZID=America/Denver:20260622T080000
DTEND;TZID=America/Denver:20260625T170000
DTSTAMP:20260420T174705
CREATED:20260414T134148Z
LAST-MODIFIED:20260414T134442Z
UID:35194-1782115200-1782406800@www.calltower.com
SUMMARY:Amplix Connect
DESCRIPTION:
URL:https://www.calltower.com/event/amplix-connect/
LOCATION:Columbus\, OH\, Columbus\, OH\, United States
CATEGORIES:NAM Events
ATTACH;FMTTYPE=image/png:https://www.calltower.com/wp-content/uploads/2026/04/Amplix_june.png
END:VEVENT
BEGIN:VEVENT
DTSTART;TZID=America/Denver:20260625T080000
DTEND;TZID=America/Denver:20260625T170000
DTSTAMP:20260420T174705
CREATED:20260414T134334Z
LAST-MODIFIED:20260414T134501Z
UID:35200-1782374400-1782406800@www.calltower.com
SUMMARY:Sandler Cape Cod
DESCRIPTION:
URL:https://www.calltower.com/event/sandler-cape-cod/
LOCATION:Falmouth\, MA\, Falmouth\, MA\, United States
CATEGORIES:NAM Events
ATTACH;FMTTYPE=image/png:https://www.calltower.com/wp-content/uploads/2026/04/Sandler_June.png
END:VEVENT
END:VCALENDAR