BEGIN:VCALENDAR
VERSION:2.0
PRODID:-//CallTower - ECPv6.15.20//NONSGML v1.0//EN
CALSCALE:GREGORIAN
METHOD:PUBLISH
X-ORIGINAL-URL:https://www.calltower.com
X-WR-CALDESC:Events for CallTower
REFRESH-INTERVAL;VALUE=DURATION:PT1H
X-Robots-Tag:noindex
X-PUBLISHED-TTL:PT1H
BEGIN:VTIMEZONE
TZID:America/Denver
BEGIN:DAYLIGHT
TZOFFSETFROM:-0700
TZOFFSETTO:-0600
TZNAME:MDT
DTSTART:20250309T090000
END:DAYLIGHT
BEGIN:STANDARD
TZOFFSETFROM:-0600
TZOFFSETTO:-0700
TZNAME:MST
DTSTART:20251102T080000
END:STANDARD
BEGIN:DAYLIGHT
TZOFFSETFROM:-0700
TZOFFSETTO:-0600
TZNAME:MDT
DTSTART:20260308T090000
END:DAYLIGHT
BEGIN:STANDARD
TZOFFSETFROM:-0600
TZOFFSETTO:-0700
TZNAME:MST
DTSTART:20261101T080000
END:STANDARD
BEGIN:DAYLIGHT
TZOFFSETFROM:-0700
TZOFFSETTO:-0600
TZNAME:MDT
DTSTART:20270314T090000
END:DAYLIGHT
BEGIN:STANDARD
TZOFFSETFROM:-0600
TZOFFSETTO:-0700
TZNAME:MST
DTSTART:20271107T080000
END:STANDARD
END:VTIMEZONE
BEGIN:VEVENT
DTSTART;TZID=America/Denver:20260511T080000
DTEND;TZID=America/Denver:20260514T170000
DTSTAMP:20260420T121345
CREATED:20260413T191844Z
LAST-MODIFIED:20260413T195338Z
UID:35116-1778486400-1778778000@www.calltower.com
SUMMARY:ePlus Transform
DESCRIPTION:
URL:https://www.calltower.com/event/eplus-transform/
LOCATION:Hollywood\, FL\, Hollywood\, FL\, United States
CATEGORIES:NAM Events
ATTACH;FMTTYPE=image/png:https://www.calltower.com/wp-content/uploads/2026/04/eplus_may.png
END:VEVENT
END:VCALENDAR