BEGIN:VCALENDAR
VERSION:2.0
PRODID:-//CallTower - ECPv6.15.20//NONSGML v1.0//EN
CALSCALE:GREGORIAN
METHOD:PUBLISH
X-WR-CALNAME:CallTower
X-ORIGINAL-URL:https://www.calltower.com
X-WR-CALDESC:Events for CallTower
REFRESH-INTERVAL;VALUE=DURATION:PT1H
X-Robots-Tag:noindex
X-PUBLISHED-TTL:PT1H
BEGIN:VTIMEZONE
TZID:America/Denver
BEGIN:DAYLIGHT
TZOFFSETFROM:-0700
TZOFFSETTO:-0600
TZNAME:MDT
DTSTART:20250309T090000
END:DAYLIGHT
BEGIN:STANDARD
TZOFFSETFROM:-0600
TZOFFSETTO:-0700
TZNAME:MST
DTSTART:20251102T080000
END:STANDARD
BEGIN:DAYLIGHT
TZOFFSETFROM:-0700
TZOFFSETTO:-0600
TZNAME:MDT
DTSTART:20260308T090000
END:DAYLIGHT
BEGIN:STANDARD
TZOFFSETFROM:-0600
TZOFFSETTO:-0700
TZNAME:MST
DTSTART:20261101T080000
END:STANDARD
BEGIN:DAYLIGHT
TZOFFSETFROM:-0700
TZOFFSETTO:-0600
TZNAME:MDT
DTSTART:20270314T090000
END:DAYLIGHT
BEGIN:STANDARD
TZOFFSETFROM:-0600
TZOFFSETTO:-0700
TZNAME:MST
DTSTART:20271107T080000
END:STANDARD
END:VTIMEZONE
BEGIN:VEVENT
DTSTART;TZID=America/Denver:20260301T000000
DTEND;TZID=America/Denver:20260302T000000
DTSTAMP:20260420T141614
CREATED:20251223T171949Z
LAST-MODIFIED:20251229T211124Z
UID:32264-1772323200-1772409600@www.calltower.com
SUMMARY:PDT Academy
DESCRIPTION:
URL:https://www.calltower.com/event/pdt-academy/
LOCATION:South Bend\, IN\, South Bend\, IN\, United States
CATEGORIES:NAM Events
ATTACH;FMTTYPE=image/png:https://www.calltower.com/wp-content/uploads/2025/12/PDT-1-1.png
END:VEVENT
END:VCALENDAR