BEGIN:VCALENDAR\
VERSION:2.0\
PRODID:-//CallTower - ECPv6.15.20//NONSGML v1.0//EN\
CALSCALE:GREGORIAN\
METHOD:PUBLISH\
X-ORIGINAL-URL:https://www.calltower.com
X-WR-CALDESC:Veranstaltungen für CallTower
REFRESH-INTERVAL;VALUE=DURATION:PT1H
X-Robots-Tag:noindex
X-PUBLISHED-TTL:PT1H
BEGIN:VTIMEZONE
TZID:America/Denver
BEGIN:DAYLIGHT
TZOFFSETFROM:-0700;
TZOFFSETTO:-0600;
TZNAME:MDT;
DTSTART:20250309T090000;
END:DAYLIGHT;
BEGIN:STANDARD;
TZOFFSETFROM:-0600
TZOFFSETTO:-0700
TZNAME:MST
DTSTART:20251102T080000
END:STANDARD
BEGIN:DAYLIGHT
TZOFFSETFROM:-0700
TZOFFSETTO:-0600
TZNAME:MDT
DTSTART:20260308T090000
END:DAYLIGHT
BEGIN:STANDARD
TZOFFSETFROM:-0600
TZOFFSETTO:-0700
TZNAME:MST
DTSTART:20261101T080000
END:STANDARD
BEGIN:DAYLIGHT
TZOFFSETFROM:-0700
TZOFFSETTO:-0600
TZNAME:MDT
DTSTART:20270314T090000
END:DAYLIGHT
BEGIN:STANDARD
TZOFFSETFROM:-0600
TZOFFSETTO:-0700
TZNAME:MST
DTSTART:20271107T080000
END:STANDARD
END:VTIMEZONE
BEGIN:VEVENT
DTSTART;TZID=America/Denver:20260413T080000
DTEND;TZID=America/Denver:20260416T170000
DTSTAMP:20260420T110013
CREATED:20251229T210539Z
LAST-MODIFIED:20260413T191252Z
UID:33027-1776067200-1776358800@www.calltower.com
ZUSAMMENFASSUNG:Vertriebspartner
BESCHREIBUNG:
URL:https://www.calltower.com/event/channel-partners/
ORT:Las Vegas\, NV\, Las Vegas\, NV\, Vereinigte Staaten\
KATEGORIEN:NAM-Veranstaltungen\
ANHANG;FMTTYPE=image/png:https://www.calltower.com/wp-content/uploads/2025/12/Channel-Partners.png
END:VEVENT\
BEGIN:VEVENT\
DTSTART;TZID=America/Denver:20260416T080000\
DTEND;TZID=America/Denver:20260416T170000\
DTSTAMP:20260420T110013
CREATED:20260414T133657Z
LAST-MODIFIED:20260414T133657Z
UID:35180-1776326400-1776358800@www.calltower.com
SUMMARY:Royal Ascot
DESCRIPTION:
URL:https://www.calltower.com/event/royal-ascot/
ORT:London\, London\, Vereinigtes Königreich
KATEGORIEN:EMEA-Veranstaltungen
ATTACH;FMTTYPE=image/png:https://www.calltower.com/wp-content/uploads/2026/04/Royal_June.png
END:VEVENT
END:VCALENDAR